Package: biotmle Version: 1.26.0 Command: /home/biocbuild/R/R-4.3.1/bin/R CMD check --install=check:biotmle.install-out.txt --library=/home/biocbuild/R/R-4.3.1/site-library --no-vignettes --timings biotmle_1.26.0.tar.gz StartedAt: 2023-11-02 08:48:35 -0000 (Thu, 02 Nov 2023) EndedAt: 2023-11-02 08:53:12 -0000 (Thu, 02 Nov 2023) EllapsedTime: 276.8 seconds RetCode: 0 Status: OK CheckDir: biotmle.Rcheck Warnings: 0