Package: biomvRCNS Version: 1.42.2 Command: chmod a+r biomvRCNS -R && F:\biocbuild\bbs-3.18-bioc\R\bin\R.exe CMD build --keep-empty-dirs --no-resave-data biomvRCNS StartedAt: 2024-04-15 17:16:21 -0400 (Mon, 15 Apr 2024) EndedAt: 2024-04-15 17:19:12 -0400 (Mon, 15 Apr 2024) EllapsedTime: 170.7 seconds RetCode: 0 Status: OK PackageFile: biomvRCNS_1.42.2.tar.gz PackageFileSize: 566.7 KiB