Package: biomvRCNS Version: 1.42.2 Command: /home/biocbuild/bbs-3.18-bioc/R/bin/R CMD INSTALL biomvRCNS StartedAt: 2024-04-15 15:29:10 -0400 (Mon, 15 Apr 2024) EndedAt: 2024-04-15 15:30:05 -0400 (Mon, 15 Apr 2024) EllapsedTime: 55.2 seconds RetCode: 0 Status: OK