Package: biomvRCNS Version: 1.42.2 Command: /home/biocbuild/bbs-3.18-bioc/R/bin/R CMD check --install=check:biomvRCNS.install-out.txt --library=/home/biocbuild/bbs-3.18-bioc/R/site-library --timings biomvRCNS_1.42.2.tar.gz StartedAt: 2024-04-15 20:35:29 -0400 (Mon, 15 Apr 2024) EndedAt: 2024-04-15 20:42:43 -0400 (Mon, 15 Apr 2024) EllapsedTime: 434.3 seconds RetCode: 0 Status: OK CheckDir: biomvRCNS.Rcheck Warnings: 0