Package: biomvRCNS Version: 1.42.2 Command: /home/biocbuild/bbs-3.18-bioc/R/bin/R CMD build --keep-empty-dirs --no-resave-data biomvRCNS StartedAt: 2024-04-15 16:12:44 -0400 (Mon, 15 Apr 2024) EndedAt: 2024-04-15 16:14:27 -0400 (Mon, 15 Apr 2024) EllapsedTime: 102.7 seconds RetCode: 0 Status: OK PackageFile: biomvRCNS_1.42.2.tar.gz PackageFileSize: 562.7 KiB