Package: biomvRCNS Version: 1.42.2 Command: /Library/Frameworks/R.framework/Resources/bin/R CMD INSTALL biomvRCNS StartedAt: 2024-04-15 15:53:23 -0400 (Mon, 15 Apr 2024) EndedAt: 2024-04-15 15:55:14 -0400 (Mon, 15 Apr 2024) EllapsedTime: 111.2 seconds RetCode: 0 Status: OK