Package: biomformat Version: 1.30.0 Command: /Library/Frameworks/R.framework/Resources/bin/R CMD build --keep-empty-dirs --no-resave-data biomformat StartedAt: 2024-03-03 16:02:32 -0500 (Sun, 03 Mar 2024) EndedAt: 2024-03-03 16:02:47 -0500 (Sun, 03 Mar 2024) EllapsedTime: 14.6 seconds RetCode: 0 Status: OK PackageFile: biomformat_1.30.0.tar.gz PackageFileSize: 304.5 KiB