Package: biomformat Version: 1.30.0 Command: /home/biocbuild/R/R-4.3.1/bin/R CMD check --install=check:biomformat.install-out.txt --library=/home/biocbuild/R/R-4.3.1/site-library --no-vignettes --timings biomformat_1.30.0.tar.gz StartedAt: 2023-11-02 08:47:21 -0000 (Thu, 02 Nov 2023) EndedAt: 2023-11-02 08:48:24 -0000 (Thu, 02 Nov 2023) EllapsedTime: 63.3 seconds RetCode: 0 Status: OK CheckDir: biomformat.Rcheck Warnings: 0