Package: biodbNci Version: 1.6.0 Command: rm -rf biodbNci.buildbin-libdir && mkdir biodbNci.buildbin-libdir && F:\biocbuild\bbs-3.18-bioc\R\bin\R.exe CMD INSTALL --build --library=biodbNci.buildbin-libdir biodbNci_1.6.0.tar.gz StartedAt: 2024-04-16 06:42:59 -0400 (Tue, 16 Apr 2024) EndedAt: 2024-04-16 06:43:43 -0400 (Tue, 16 Apr 2024) EllapsedTime: 44.2 seconds RetCode: 0 Status: OK PackageFile: biodbNci_1.6.0.zip PackageFileSize: 894.4 KiB