Package: biodbNci Version: 1.6.0 Command: /Library/Frameworks/R.framework/Resources/bin/R CMD build --keep-empty-dirs --no-resave-data biodbNci StartedAt: 2024-04-15 17:14:47 -0400 (Mon, 15 Apr 2024) EndedAt: 2024-04-15 17:16:21 -0400 (Mon, 15 Apr 2024) EllapsedTime: 94.4 seconds RetCode: 0 Status: OK PackageFile: biodbNci_1.6.0.tar.gz PackageFileSize: 311.9 KiB