Package: biodbNci Version: 1.6.0 Command: /Library/Frameworks/R.framework/Resources/bin/R CMD INSTALL biodbNci StartedAt: 2024-03-03 15:30:52 -0500 (Sun, 03 Mar 2024) EndedAt: 2024-03-03 15:31:33 -0500 (Sun, 03 Mar 2024) EllapsedTime: 41.1 seconds RetCode: 0 Status: OK