Package: biodbNci Version: 1.6.0 Command: /home/biocbuild/R/R-4.3.1/bin/R CMD INSTALL biodbNci StartedAt: 2023-11-01 20:43:46 -0000 (Wed, 01 Nov 2023) EndedAt: 2023-11-01 20:44:42 -0000 (Wed, 01 Nov 2023) EllapsedTime: 56.5 seconds RetCode: 0 Status: OK