Package: biodbNcbi Version: 1.6.0 Command: /home/biocbuild/bbs-3.18-bioc/R/bin/R CMD check --install=check:biodbNcbi.install-out.txt --library=/home/biocbuild/bbs-3.18-bioc/R/site-library --timings biodbNcbi_1.6.0.tar.gz StartedAt: 2024-04-15 20:34:10 -0400 (Mon, 15 Apr 2024) EndedAt: 2024-04-15 20:36:30 -0400 (Mon, 15 Apr 2024) EllapsedTime: 140.5 seconds RetCode: 0 Status: OK CheckDir: biodbNcbi.Rcheck Warnings: 0