Package: biodbMirbase Version: 1.5.1 Command: F:\biocbuild\bbs-3.18-bioc\R\bin\R.exe CMD check --no-multiarch --install=check:biodbMirbase.install-out.txt --library=F:\biocbuild\bbs-3.18-bioc\R\library --no-vignettes --timings biodbMirbase_1.5.1.tar.gz StartedAt: 2023-08-11 23:37:11 -0400 (Fri, 11 Aug 2023) EndedAt: 2023-08-11 23:37:54 -0400 (Fri, 11 Aug 2023) EllapsedTime: 43.2 seconds RetCode: 1 Status: ERROR CheckDir: biodbMirbase.Rcheck Warnings: NA