Package: biodbMirbase Version: 1.6.0 Command: /home/biocbuild/R/R-4.3.1/bin/R CMD build --keep-empty-dirs --no-resave-data biodbMirbase StartedAt: 2023-11-01 22:43:57 -0000 (Wed, 01 Nov 2023) EndedAt: 2023-11-01 22:43:58 -0000 (Wed, 01 Nov 2023) EllapsedTime: 1.0 seconds RetCode: 1 Status: ERROR PackageFile: None PackageFileSize: NA