############################################################################## ############################################################################## ### ### Running command: ### ### /home/biocbuild/R/R-4.3.1/bin/R CMD build --keep-empty-dirs --no-resave-data biodbMirbase ### ############################################################################## ############################################################################## * checking for file ‘biodbMirbase/DESCRIPTION’ ... OK * preparing ‘biodbMirbase’: * checking DESCRIPTION meta-information ... OK * installing the package to build vignettes ----------------------------------- * installing *source* package ‘biodbMirbase’ ... ** using staged installation ** R Error in .install_package_code_files(".", instdir) : files in 'Collate' field missing from '/home/biocbuild/tmp/Rtmp7sMAf9/Rbuild2957752d19707f/biodbMirbase/R': zzz.R ERROR: unable to collate and parse R files for package ‘biodbMirbase’ * removing ‘/home/biocbuild/tmp/Rtmp7sMAf9/Rinst295775330c405a/biodbMirbase’ ----------------------------------- ERROR: package installation failed