Package: biodbKegg Version: 1.8.0 Command: /Library/Frameworks/R.framework/Resources/bin/R CMD INSTALL biodbKegg StartedAt: 2024-04-15 16:13:02 -0400 (Mon, 15 Apr 2024) EndedAt: 2024-04-15 16:13:36 -0400 (Mon, 15 Apr 2024) EllapsedTime: 34.3 seconds RetCode: 0 Status: OK