Package: biodbKegg Version: 1.8.0 Command: /Library/Frameworks/R.framework/Resources/bin/R CMD INSTALL biodbKegg StartedAt: 2024-03-03 15:30:59 -0500 (Sun, 03 Mar 2024) EndedAt: 2024-03-03 15:31:21 -0500 (Sun, 03 Mar 2024) EllapsedTime: 22.1 seconds RetCode: 0 Status: OK