Package: biodbKegg Version: 1.8.0 Command: /Library/Frameworks/R.framework/Resources/bin/R CMD check --install=check:biodbKegg.install-out.txt --library=/Library/Frameworks/R.framework/Resources/library --no-vignettes --timings biodbKegg_1.8.0.tar.gz StartedAt: 2024-03-03 19:14:03 -0500 (Sun, 03 Mar 2024) EndedAt: 2024-03-03 19:35:20 -0500 (Sun, 03 Mar 2024) EllapsedTime: 1276.9 seconds RetCode: 0 Status: OK CheckDir: biodbKegg.Rcheck Warnings: 0