Package: biodbKegg Version: 1.8.0 Command: /Library/Frameworks/R.framework/Resources/bin/R CMD build --keep-empty-dirs --no-resave-data biodbKegg StartedAt: 2024-03-03 16:02:00 -0500 (Sun, 03 Mar 2024) EndedAt: 2024-03-03 16:03:14 -0500 (Sun, 03 Mar 2024) EllapsedTime: 73.5 seconds RetCode: 0 Status: OK PackageFile: biodbKegg_1.8.0.tar.gz PackageFileSize: 618.6 KiB