Package: biodbHmdb Version: 1.8.0 Command: /home/biocbuild/bbs-3.18-bioc/R/bin/R CMD check --install=check:biodbHmdb.install-out.txt --library=/home/biocbuild/bbs-3.18-bioc/R/site-library --timings biodbHmdb_1.8.0.tar.gz StartedAt: 2024-04-15 20:33:22 -0400 (Mon, 15 Apr 2024) EndedAt: 2024-04-15 20:34:13 -0400 (Mon, 15 Apr 2024) EllapsedTime: 51.0 seconds RetCode: 0 Status: WARNINGS CheckDir: biodbHmdb.Rcheck Warnings: 2