Package: biodbChebi Version: 1.8.0 Command: rm -rf biodbChebi.buildbin-libdir && mkdir biodbChebi.buildbin-libdir && /Users/biocbuild/BBS/utils/build-universal.sh biodbChebi_1.8.0.tar.gz /Library/Frameworks/R.framework/Resources/bin/R biodbChebi.buildbin-libdir StartedAt: 2024-03-04 00:31:03 -0500 (Mon, 04 Mar 2024) EndedAt: 2024-03-04 00:31:16 -0500 (Mon, 04 Mar 2024) EllapsedTime: 13.5 seconds RetCode: 0 Status: OK PackageFile: biodbChebi_1.8.0.tgz PackageFileSize: 398.2 KiB