Package: biocViews Version: 1.70.0 Command: /home/biocbuild/R/R-4.3.1/bin/R CMD INSTALL biocViews StartedAt: 2023-11-01 20:09:46 -0000 (Wed, 01 Nov 2023) EndedAt: 2023-11-01 20:10:15 -0000 (Wed, 01 Nov 2023) EllapsedTime: 29.9 seconds RetCode: 0 Status: OK