Package: biobtreeR Version: 1.14.0 Command: /Library/Frameworks/R.framework/Resources/bin/R CMD check --install=check:biobtreeR.install-out.txt --library=/Library/Frameworks/R.framework/Resources/library --no-vignettes --timings biobtreeR_1.14.0.tar.gz StartedAt: 2024-04-15 23:48:08 -0400 (Mon, 15 Apr 2024) EndedAt: 2024-04-15 23:49:20 -0400 (Mon, 15 Apr 2024) EllapsedTime: 71.9 seconds RetCode: 0 Status: OK CheckDir: biobtreeR.Rcheck Warnings: 0