Package: biobtreeR Version: 1.14.0 Command: /Library/Frameworks/R.framework/Resources/bin/R CMD build --keep-empty-dirs --no-resave-data biobtreeR StartedAt: 2024-03-03 16:00:10 -0500 (Sun, 03 Mar 2024) EndedAt: 2024-03-03 16:01:16 -0500 (Sun, 03 Mar 2024) EllapsedTime: 66.7 seconds RetCode: 0 Status: OK PackageFile: biobtreeR_1.14.0.tar.gz PackageFileSize: 938.2 KiB