Package: biobroom Version: 1.34.0 Command: /home/biocbuild/bbs-3.18-bioc/R/bin/R CMD check --install=check:biobroom.install-out.txt --library=/home/biocbuild/bbs-3.18-bioc/R/site-library --timings biobroom_1.34.0.tar.gz StartedAt: 2024-04-15 20:28:00 -0400 (Mon, 15 Apr 2024) EndedAt: 2024-04-15 20:30:38 -0400 (Mon, 15 Apr 2024) EllapsedTime: 157.7 seconds RetCode: 0 Status: WARNINGS CheckDir: biobroom.Rcheck Warnings: 1