Package: biobroom Version: 1.34.0 Command: /Library/Frameworks/R.framework/Resources/bin/R CMD INSTALL biobroom StartedAt: 2024-03-03 15:07:13 -0500 (Sun, 03 Mar 2024) EndedAt: 2024-03-03 15:07:33 -0500 (Sun, 03 Mar 2024) EllapsedTime: 20.7 seconds RetCode: 0 Status: OK