Package: bioDist Version: 1.74.0 Command: /home/biocbuild/R/R-4.3.1/bin/R CMD check --install=check:bioDist.install-out.txt --library=/home/biocbuild/R/R-4.3.1/site-library --no-vignettes --timings bioDist_1.74.0.tar.gz StartedAt: 2023-11-02 08:47:15 -0000 (Thu, 02 Nov 2023) EndedAt: 2023-11-02 08:47:55 -0000 (Thu, 02 Nov 2023) EllapsedTime: 40.1 seconds RetCode: 0 Status: OK CheckDir: bioDist.Rcheck Warnings: 0