Package: bioCancer Version: 1.30.8 Command: F:\biocbuild\bbs-3.18-bioc\R\bin\R.exe CMD INSTALL bioCancer StartedAt: 2024-04-15 16:38:52 -0400 (Mon, 15 Apr 2024) EndedAt: 2024-04-15 16:40:12 -0400 (Mon, 15 Apr 2024) EllapsedTime: 79.6 seconds RetCode: 0 Status: OK