Package: bioCancer Version: 1.30.8 Command: F:\biocbuild\bbs-3.18-bioc\R\bin\R.exe CMD check --no-multiarch --install=check:bioCancer.install-out.txt --library=F:\biocbuild\bbs-3.18-bioc\R\library --no-vignettes --timings bioCancer_1.30.8.tar.gz StartedAt: 2024-04-15 22:39:30 -0400 (Mon, 15 Apr 2024) EndedAt: 2024-04-15 22:46:53 -0400 (Mon, 15 Apr 2024) EllapsedTime: 443.4 seconds RetCode: 0 Status: OK CheckDir: bioCancer.Rcheck Warnings: 0