Package: bioCancer Version: 1.30.8 Command: chmod a+r bioCancer -R && F:\biocbuild\bbs-3.18-bioc\R\bin\R.exe CMD build --keep-empty-dirs --no-resave-data bioCancer StartedAt: 2024-04-15 17:12:07 -0400 (Mon, 15 Apr 2024) EndedAt: 2024-04-15 17:13:34 -0400 (Mon, 15 Apr 2024) EllapsedTime: 86.8 seconds RetCode: 0 Status: OK PackageFile: bioCancer_1.30.8.tar.gz PackageFileSize: 8.57 MiB