Package: bioCancer Version: 1.30.8 Command: rm -rf bioCancer.buildbin-libdir && mkdir bioCancer.buildbin-libdir && F:\biocbuild\bbs-3.18-bioc\R\bin\R.exe CMD INSTALL --build --library=bioCancer.buildbin-libdir bioCancer_1.30.8.tar.gz StartedAt: 2024-04-16 06:42:08 -0400 (Tue, 16 Apr 2024) EndedAt: 2024-04-16 06:43:26 -0400 (Tue, 16 Apr 2024) EllapsedTime: 77.9 seconds RetCode: 0 Status: OK PackageFile: bioCancer_1.30.8.zip PackageFileSize: 6.557 MiB