Package: bioCancer Version: 1.30.8 Command: /home/biocbuild/bbs-3.18-bioc/R/bin/R CMD check --install=check:bioCancer.install-out.txt --library=/home/biocbuild/bbs-3.18-bioc/R/site-library --timings bioCancer_1.30.8.tar.gz StartedAt: 2024-04-15 20:28:18 -0400 (Mon, 15 Apr 2024) EndedAt: 2024-04-15 20:34:28 -0400 (Mon, 15 Apr 2024) EllapsedTime: 370.1 seconds RetCode: 0 Status: OK CheckDir: bioCancer.Rcheck Warnings: 0