Package: bioCancer Version: 1.30.8 Command: /Library/Frameworks/R.framework/Resources/bin/R CMD check --install=check:bioCancer.install-out.txt --library=/Library/Frameworks/R.framework/Resources/library --no-vignettes --timings bioCancer_1.30.8.tar.gz StartedAt: 2024-04-15 23:48:23 -0400 (Mon, 15 Apr 2024) EndedAt: 2024-04-16 00:00:34 -0400 (Tue, 16 Apr 2024) EllapsedTime: 731.1 seconds RetCode: 0 Status: OK CheckDir: bioCancer.Rcheck Warnings: 0