Package: bioCancer Version: 1.30.8 Command: /Library/Frameworks/R.framework/Resources/bin/R CMD build --keep-empty-dirs --no-resave-data bioCancer StartedAt: 2024-04-15 17:10:26 -0400 (Mon, 15 Apr 2024) EndedAt: 2024-04-15 17:12:38 -0400 (Mon, 15 Apr 2024) EllapsedTime: 132.5 seconds RetCode: 0 Status: OK PackageFile: bioCancer_1.30.8.tar.gz PackageFileSize: 8.571 MiB