Package: bioCancer Version: 1.30.8 Command: rm -rf bioCancer.buildbin-libdir && mkdir bioCancer.buildbin-libdir && /Users/biocbuild/BBS/utils/build-universal.sh bioCancer_1.30.8.tar.gz /Library/Frameworks/R.framework/Resources/bin/R bioCancer.buildbin-libdir StartedAt: 2024-04-16 11:05:04 -0400 (Tue, 16 Apr 2024) EndedAt: 2024-04-16 11:07:30 -0400 (Tue, 16 Apr 2024) EllapsedTime: 146.0 seconds RetCode: 0 Status: OK PackageFile: bioCancer_1.30.8.tgz PackageFileSize: 6.534 MiB