Package: bioCancer Version: 1.30.8 Command: /Library/Frameworks/R.framework/Resources/bin/R CMD INSTALL bioCancer StartedAt: 2024-03-03 15:39:08 -0500 (Sun, 03 Mar 2024) EndedAt: 2024-03-03 15:40:26 -0500 (Sun, 03 Mar 2024) EllapsedTime: 77.5 seconds RetCode: 0 Status: OK