Package: bioCancer Version: 1.30.8 Command: /Library/Frameworks/R.framework/Resources/bin/R CMD build --keep-empty-dirs --no-resave-data bioCancer StartedAt: 2024-03-03 16:00:13 -0500 (Sun, 03 Mar 2024) EndedAt: 2024-03-03 16:01:26 -0500 (Sun, 03 Mar 2024) EllapsedTime: 73.5 seconds RetCode: 0 Status: OK PackageFile: bioCancer_1.30.8.tar.gz PackageFileSize: 8.571 MiB