Package: bioCancer Version: 1.30.0 Command: /home/biocbuild/R/R-4.3.1/bin/R CMD build --keep-empty-dirs --no-resave-data bioCancer StartedAt: 2023-11-01 22:38:54 -0000 (Wed, 01 Nov 2023) EndedAt: 2023-11-01 22:40:30 -0000 (Wed, 01 Nov 2023) EllapsedTime: 96.1 seconds RetCode: 0 Status: OK PackageFile: bioCancer_1.30.0.tar.gz PackageFileSize: 8.505 MiB