Package: bigmelon Version: 1.28.0 Command: rm -rf bigmelon.buildbin-libdir && mkdir bigmelon.buildbin-libdir && F:\biocbuild\bbs-3.18-bioc\R\bin\R.exe CMD INSTALL --build --library=bigmelon.buildbin-libdir bigmelon_1.28.0.tar.gz StartedAt: 2024-04-16 06:41:55 -0400 (Tue, 16 Apr 2024) EndedAt: 2024-04-16 06:43:19 -0400 (Tue, 16 Apr 2024) EllapsedTime: 84.2 seconds RetCode: 0 Status: OK PackageFile: bigmelon_1.28.0.zip PackageFileSize: 1.187 MiB