Package: bigmelon Version: 1.28.0 Command: /home/biocbuild/bbs-3.18-bioc/R/bin/R CMD check --install=check:bigmelon.install-out.txt --library=/home/biocbuild/bbs-3.18-bioc/R/site-library --timings bigmelon_1.28.0.tar.gz StartedAt: 2024-04-15 20:25:35 -0400 (Mon, 15 Apr 2024) EndedAt: 2024-04-15 20:33:30 -0400 (Mon, 15 Apr 2024) EllapsedTime: 474.1 seconds RetCode: 0 Status: WARNINGS CheckDir: bigmelon.Rcheck Warnings: 3