Package: bigmelon Version: 1.28.0 Command: /home/biocbuild/bbs-3.18-bioc/R/bin/R CMD build --keep-empty-dirs --no-resave-data bigmelon StartedAt: 2024-04-15 16:09:20 -0400 (Mon, 15 Apr 2024) EndedAt: 2024-04-15 16:10:38 -0400 (Mon, 15 Apr 2024) EllapsedTime: 77.7 seconds RetCode: 0 Status: OK PackageFile: bigmelon_1.28.0.tar.gz PackageFileSize: 901.1 KiB