Package: bigmelon Version: 1.28.0 Command: /Library/Frameworks/R.framework/Resources/bin/R CMD INSTALL bigmelon StartedAt: 2024-04-15 16:38:03 -0400 (Mon, 15 Apr 2024) EndedAt: 2024-04-15 16:39:56 -0400 (Mon, 15 Apr 2024) EllapsedTime: 112.9 seconds RetCode: 0 Status: OK