Package: bigmelon Version: 1.28.0 Command: rm -rf bigmelon.buildbin-libdir && mkdir bigmelon.buildbin-libdir && /Users/biocbuild/BBS/utils/build-universal.sh bigmelon_1.28.0.tar.gz /Library/Frameworks/R.framework/Resources/bin/R bigmelon.buildbin-libdir StartedAt: 2024-03-04 00:30:32 -0500 (Mon, 04 Mar 2024) EndedAt: 2024-03-04 00:31:52 -0500 (Mon, 04 Mar 2024) EllapsedTime: 80.2 seconds RetCode: 0 Status: OK PackageFile: bigmelon_1.28.0.tgz PackageFileSize: 1.184 MiB