Package: bigPint Version: 1.18.1 Command: /home/biocbuild/bbs-3.18-bioc/R/bin/R CMD INSTALL bigPint StartedAt: 2024-04-15 15:30:34 -0400 (Mon, 15 Apr 2024) EndedAt: 2024-04-15 15:31:04 -0400 (Mon, 15 Apr 2024) EllapsedTime: 30.1 seconds RetCode: 0 Status: OK