Package: benchdamic Version: 1.8.2 Command: /home/biocbuild/bbs-3.18-bioc/R/bin/R CMD INSTALL benchdamic StartedAt: 2024-04-15 15:45:33 -0400 (Mon, 15 Apr 2024) EndedAt: 2024-04-15 15:46:49 -0400 (Mon, 15 Apr 2024) EllapsedTime: 76.5 seconds RetCode: 0 Status: OK