Package: benchdamic Version: 1.8.1 Command: /Library/Frameworks/R.framework/Resources/bin/R CMD build --keep-empty-dirs --no-resave-data benchdamic StartedAt: 2024-03-03 15:58:20 -0500 (Sun, 03 Mar 2024) EndedAt: 2024-03-03 16:08:16 -0500 (Sun, 03 Mar 2024) EllapsedTime: 595.6 seconds RetCode: 0 Status: OK PackageFile: benchdamic_1.8.1.tar.gz PackageFileSize: 4.629 MiB