Package: beer Version: 1.6.0 Command: /Library/Frameworks/R.framework/Resources/bin/R CMD build --keep-empty-dirs --no-resave-data beer StartedAt: 2024-03-03 15:58:06 -0500 (Sun, 03 Mar 2024) EndedAt: 2024-03-03 16:01:22 -0500 (Sun, 03 Mar 2024) EllapsedTime: 195.5 seconds RetCode: 0 Status: OK PackageFile: beer_1.6.0.tar.gz PackageFileSize: 594.3 KiB