Package: beadarray Version: 2.52.0 Command: /home/biocbuild/bbs-3.18-bioc/R/bin/R CMD build --keep-empty-dirs --no-resave-data beadarray StartedAt: 2024-04-15 16:06:07 -0400 (Mon, 15 Apr 2024) EndedAt: 2024-04-15 16:08:37 -0400 (Mon, 15 Apr 2024) EllapsedTime: 150.2 seconds RetCode: 0 Status: OK PackageFile: beadarray_2.52.0.tar.gz PackageFileSize: 2.334 MiB