Package: beachmat.hdf5 Version: 1.0.0 Command: /home/biocbuild/bbs-3.18-bioc/R/bin/R CMD build --keep-empty-dirs --no-resave-data beachmat.hdf5 StartedAt: 2024-04-15 16:05:38 -0400 (Mon, 15 Apr 2024) EndedAt: 2024-04-15 16:07:19 -0400 (Mon, 15 Apr 2024) EllapsedTime: 101.2 seconds RetCode: 0 Status: OK PackageFile: beachmat.hdf5_1.0.0.tar.gz PackageFileSize: 316.3 KiB